BEGIN:VCALENDAR
VERSION:2.0
PRODID:-//https://horsleyu3a.org.uk//NONSGML kigkonsult.se iCalcreator 2.41.71//
CALSCALE:GREGORIAN
METHOD:PUBLISH
UID:64393439-3332-4232-b930-336230323865
X-WR-CALNAME:JCal Pro Calendar
X-WR-CALDESC:Your online events calendar
X-WR-TIMEZONE:UTC
BEGIN:VTIMEZONE
TZID:UTC
END:VTIMEZONE
BEGIN:VEVENT
UID:eventno5570@horsleyu3a.og.uk
DTSTAMP:20260419T175107Z
CATEGORIES:Third Age Trust online event
DESCRIPTION:<p>Chris Dowrick explores suffering and hope in Anna Karenina\,
  revealing how literature can deepen our understanding of wellbeing and re
 silience.</p><p>Location:  Online via Zoom.</p><p>Cost:  Free</p><p> <a ti
 tle='  More Detail' href='https://www.eventbrite.com/e/suffering-and-hope-
 in-tolstoys-anna-karenina-tickets-1985584316140?aff=oddtdtcreator&keep_tld
 =true' target='_blank  ' rel='noopener'> <span style ='text-decoration: un
 derline\;'> <em><strong>More Details</strong></em></span> </a></p>
DTSTART:20260514T140000Z
DTEND:20260514T150000Z
SUMMARY:Third Age Trust online event: Suffering and hope in Tolstoy's Anna 
 Karenina
URL:https://horsleyu3a.org.uk/index.php/calendar-jcalpro/87-third-age-trust
 -online-event/590-third-age-trust-online-event-suffering-and-hope-in-tolst
 oys-anna-karenina
X-ALT-DESC;FMTTYPE=TEXT/HTML:<p>Chris Dowrick explores suffering and hope i
 n Anna Karenina\, revealing how literature can deepen our understanding of
  wellbeing and resilience.</p><p>Location:  Online via Zoom.</p><p>Cost:  
 Free</p><p> <a title='  More Detail' href='https://www.eventbrite.com/e/su
 ffering-and-hope-in-tolstoys-anna-karenina-tickets-1985584316140?aff=oddtd
 tcreator&keep_tld=true' target='_blank  ' rel='noopener'> <span style ='te
 xt-decoration: underline\;'> <em><strong>More Details</strong></em></span>
  </a></p>
END:VEVENT
END:VCALENDAR
