BEGIN:VCALENDAR
VERSION:2.0
PRODID:-//https://horsleyu3a.org.uk//NONSGML kigkonsult.se iCalcreator 2.41.71//
CALSCALE:GREGORIAN
METHOD:PUBLISH
UID:33626562-3633-4731-a135-343033316361
X-WR-CALNAME:JCal Pro Calendar
X-WR-CALDESC:Your online events calendar
X-WR-TIMEZONE:UTC
BEGIN:VTIMEZONE
TZID:UTC
END:VTIMEZONE
BEGIN:VEVENT
UID:eventno5610@horsleyu3a.og.uk
DTSTAMP:20260421T141020Z
CATEGORIES:Third Age Trust online event
DESCRIPTION:<p>Bring more joy and laughter to your life with Laughter Yoga 
 - an aerobic exercise with playful exercises combined with deep yogic brea
 thing.</p><p>Location:  Online via Zoom.</p><p>Cost:  Free</p><p> <a title
 ='  More Detail' href='https://www.eventbrite.co.uk/e/laughter-yoga-with-m
 errie-maggie-may-tickets-1986120052542?aff=oddtdtcreator' target='_blank  
 ' rel='noopener'> <span style ='text-decoration: underline\;'> <em><strong
 >More Details</strong></em></span> </a></p>
DTSTART:20260526T151800Z
DTEND:20260526T161800Z
SUMMARY:Third Age Trust online event: Laughter yoga with Merrie Maggie: May
URL:https://horsleyu3a.org.uk/index.php/calendar-jcalpro/87-third-age-trust
 -online-event/594-third-age-trust-online-event-laughter-yoga-with-merrie-m
 aggie-may
X-ALT-DESC;FMTTYPE=TEXT/HTML:<p>Bring more joy and laughter to your life wi
 th Laughter Yoga - an aerobic exercise with playful exercises combined wit
 h deep yogic breathing.</p><p>Location:  Online via Zoom.</p><p>Cost:  Fre
 e</p><p> <a title='  More Detail' href='https://www.eventbrite.co.uk/e/lau
 ghter-yoga-with-merrie-maggie-may-tickets-1986120052542?aff=oddtdtcreator'
  target='_blank  ' rel='noopener'> <span style ='text-decoration: underlin
 e\;'> <em><strong>More Details</strong></em></span> </a></p>
END:VEVENT
END:VCALENDAR
