BEGIN:VCALENDAR
VERSION:2.0
PRODID:-//https://horsleyu3a.org.uk//NONSGML kigkonsult.se iCalcreator 2.41.71//
CALSCALE:GREGORIAN
METHOD:PUBLISH
UID:65306563-6533-4131-b363-643463633738
X-WR-CALNAME:JCal Pro Calendar
X-WR-CALDESC:Your online events calendar
X-WR-TIMEZONE:UTC
BEGIN:VTIMEZONE
TZID:UTC
END:VTIMEZONE
BEGIN:VEVENT
UID:eventno5470@horsleyu3a.og.uk
DTSTAMP:20260424T141154Z
CATEGORIES:Third Age Trust online event
DESCRIPTION:<p>Alan Freeland explores how nations worldwide use AI to gain 
 advantage from a technology that is both remarkably powerful and deeply fl
 awed.</p><p>Location:  Online via Zoom.</p><p>Cost:  Free</p><p> <a title=
 '  More Detail' href='https://www.eventbrite.com/e/ai-news-april-ai-and-ge
 opolitics-tickets-1985505756165?aff=oddtdtcreator&keep_tld=true' target='_
 blank  ' rel='noopener'> <span style ='text-decoration: underline\;'> <em>
 <strong>More Details</strong></em></span> </a></p>
DTSTART:20260424T100000Z
DTEND:20260424T110000Z
SUMMARY:Third Age Trust online event: AI news April: AI and geopolitics
URL:https://horsleyu3a.org.uk/index.php/calendar-jcalpro/87-third-age-trust
 -online-event/584-third-age-trust-online-event-ai-news-april-ai-and-geopol
 itics
X-ALT-DESC;FMTTYPE=TEXT/HTML:<p>Alan Freeland explores how nations worldwid
 e use AI to gain advantage from a technology that is both remarkably power
 ful and deeply flawed.</p><p>Location:  Online via Zoom.</p><p>Cost:  Free
 </p><p> <a title='  More Detail' href='https://www.eventbrite.com/e/ai-new
 s-april-ai-and-geopolitics-tickets-1985505756165?aff=oddtdtcreator&keep_tl
 d=true' target='_blank  ' rel='noopener'> <span style ='text-decoration: u
 nderline\;'> <em><strong>More Details</strong></em></span> </a></p>
END:VEVENT
BEGIN:VEVENT
UID:eventno5480@horsleyu3a.og.uk
DTSTAMP:20260424T141154Z
CATEGORIES:Third Age Trust online event
DESCRIPTION:<p>Bring more joy and laughter to your life with Laughter Yoga 
 - an aerobic exercise with playful exercises combined with deep yogic brea
 thing.</p><p>Location:  Online via Zoom.</p><p>Cost:  Free</p><p> <a title
 ='  More Detail' href='https://www.eventbrite.com/e/laughter-yoga-with-mer
 rie-maggie-april-tickets-1985575663259?aff=oddtdtcreator&keep_tld=true' ta
 rget='_blank  ' rel='noopener'> <span style ='text-decoration: underline\;
 '> <em><strong>More Details</strong></em></span> </a></p>
DTSTART:20260428T151800Z
DTEND:20260428T161800Z
SUMMARY:Third Age Trust online event: Laughter yoga with Merrie Maggie: Apr
 il
URL:https://horsleyu3a.org.uk/index.php/calendar-jcalpro/87-third-age-trust
 -online-event/585-third-age-trust-online-event-laughter-yoga-with-merrie-m
 aggie-april
X-ALT-DESC;FMTTYPE=TEXT/HTML:<p>Bring more joy and laughter to your life wi
 th Laughter Yoga - an aerobic exercise with playful exercises combined wit
 h deep yogic breathing.</p><p>Location:  Online via Zoom.</p><p>Cost:  Fre
 e</p><p> <a title='  More Detail' href='https://www.eventbrite.com/e/laugh
 ter-yoga-with-merrie-maggie-april-tickets-1985575663259?aff=oddtdtcreator&
 keep_tld=true' target='_blank  ' rel='noopener'> <span style ='text-decora
 tion: underline\;'> <em><strong>More Details</strong></em></span> </a></p>
END:VEVENT
BEGIN:VEVENT
UID:eventno3920@horsleyu3a.og.uk
DTSTAMP:20260424T141154Z
CATEGORIES:Horsley U3A Monthly Meeting
DESCRIPTION:<p>Speaker: Colin Summerhayes.</p><p>Location:  East Horsley Vi
 llage Hall or via Zoom.</p><p>Cost:  Free. Complimentary tea and coffee </
 p>
DTSTART:20260429T094500Z
DTEND:20260429T120000Z
SUMMARY:Horsley U3A Monthly Meeting: Melting Ice\, Rising Seas: Saving Eart
 h's Refrigerator - our Grandkids' Future
URL:https://horsleyu3a.org.uk/index.php/calendar-jcalpro/89-horsley-u3a-mon
 thly-meeting/416-horsley-u3a-monthly-meeting-melting-ice-rising-seas-savin
 g-earths-refrigerator-our-grandkids-future
X-ALT-DESC;FMTTYPE=TEXT/HTML:<p>Speaker: Colin Summerhayes.</p><p>Location:
   East Horsley Village Hall or via Zoom.</p><p>Cost:  Free. Complimentary 
 tea and coffee </p>
END:VEVENT
END:VCALENDAR
